Workbook

Sheet Census
F3: Notes:
F4: Gender | G4: Must be F, M, or U.
F5: State | G5: Enter in State Abbreviation and Full State will populate.
F6: Relationship | G6: Enter Employee, Spouse, or Child
F7: Coverage Election | G7: Employee Only, Employee & Spouse, Employee & Child(ren), Family, Waive Other, Medicare, COBRA.
A8: Company Name: | F8: Age | G8: This will populate based on Date of Birth entered.
A9: Address: | F9: Zip3 | G9: This will populate based on Zip Code entered.
A10: City, State, Zip | F10: Red Highlighted Columns | G10: Required for quoting ECH. Only Full-time, benefits eligible employees should be listed.
A11: SIC Code: | G11: Please include Names, Dates of Birth, and Gender for any Spouses/Dependents that will be on the plan.
A12: Effective Date: | F12: Blue Highlighted Columns | G12: Required for CBA (Need over 50% of Rank-and-File signed forms).
G13: *A Rank-and-File employee is considered one that does not hire, fire, or conduct reviews.
A16: First Name | B16: Last Name | C16: Date of Birth | D16: Age | E16: Gender | F16: Relationship | G16: Phone | H16: Email | I16: Address | J16: City | K16: State | L16: Full Name of State | M16: Zip | N16: Zip3 | O16: Coverage Election | P16: Job Title | Q16: Rank & File (Y/N) | R16: Signed Form
D17: =DATEDIF(C17,TODAY(),"Y") -> 125 | L17: =VLOOKUP(K17,'State List'!A:B,2,FALSE) -> #N/A | N17: =LEFT(M17,3)
D18: =DATEDIF(C18,TODAY(),"Y") -> 125 | L18: =VLOOKUP(K18,'State List'!A:B,2,FALSE) -> #N/A | N18: =LEFT(M18,3)
D19: =DATEDIF(C19,TODAY(),"Y") -> 125 | L19: =VLOOKUP(K19,'State List'!A:B,2,FALSE) -> #N/A | N19: =LEFT(M19,3)
D20: =DATEDIF(C20,TODAY(),"Y") -> 125 | L20: =VLOOKUP(K20,'State List'!A:B,2,FALSE) -> #N/A | N20: =LEFT(M20,3)
D21: =DATEDIF(C21,TODAY(),"Y") -> 125 | L21: =VLOOKUP(K21,'State List'!A:B,2,FALSE) -> #N/A | N21: =LEFT(M21,3)
D22: =DATEDIF(C22,TODAY(),"Y") -> 125 | L22: =VLOOKUP(K22,'State List'!A:B,2,FALSE) -> #N/A | N22: =LEFT(M22,3)
D23: =DATEDIF(C23,TODAY(),"Y") -> 125 | L23: =VLOOKUP(K23,'State List'!A:B,2,FALSE) -> #N/A | N23: =LEFT(M23,3)
D24: =DATEDIF(C24,TODAY(),"Y") -> 125 | L24: =VLOOKUP(K24,'State List'!A:B,2,FALSE) -> #N/A | N24: =LEFT(M24,3)
D25: =DATEDIF(C25,TODAY(),"Y") -> 125 | L25: =VLOOKUP(K25,'State List'!A:B,2,FALSE) -> #N/A | N25: =LEFT(M25,3)
D26: =DATEDIF(C26,TODAY(),"Y") -> 125 | L26: =VLOOKUP(K26,'State List'!A:B,2,FALSE) -> #N/A | N26: =LEFT(M26,3)
D27: =DATEDIF(C27,TODAY(),"Y") -> 125 | L27: =VLOOKUP(K27,'State List'!A:B,2,FALSE) -> #N/A | N27: =LEFT(M27,3)
D28: =DATEDIF(C28,TODAY(),"Y") -> 125 | L28: =VLOOKUP(K28,'State List'!A:B,2,FALSE) -> #N/A | N28: =LEFT(M28,3)
... D563: =DATEDIF(C563,TODAY(),"Y") -> 125 | L563: =VLOOKUP(K563,'State List'!A:B,2,FALSE) -> #N/A | N563: =LEFT(M563,3)
N564: =LEFT(M564,3)
N565: =LEFT(M565,3)
N566: =LEFT(M566,3)
N567: =LEFT(M567,3)
N568: =LEFT(M568,3)
N569: =LEFT(M569,3)
N570: =LEFT(M570,3)
N571: =LEFT(M571,3)
N572: =LEFT(M572,3)
N573: =LEFT(M573,3)
N574: =LEFT(M574,3)
N575: =LEFT(M575,3)
... N1041: =LEFT(M1041,3)

Sheet Enrolled Census
A1: Family_ID | B1: Insured | C1: Relationship | D1: First_Name | E1: Last_Name | F1: Middle_Name | G1: Name_Prefix | H1: Name_Suffix | I1: Birth_Date | J1: SSN | K1: Alternate_ID | L1: Unique_ID | M1: Address | N1: Address2 | O1: City | P1: State | Q1: Zip_Code | R1: Home_Phone | S1: Work_Phone | T1: Fax | U1: Email | V1: Ethnicity_Code | W1: Death_Date | X1: Sex | Y1: Marital_Status | Z1: Handicap | AA1: Date_Employed | AB1: Termination_Date | AC1: Date_Enrolled | AD1: Plan Selection | AE1: PHCS/RBP or Cigna | AF1: Disenroll_Date

Sheet Instructions (Enrolled Census)
A1: Field_Name | B1: Max Lenth | C1: Format | D1: Required | E1: Comment
A2: Family_ID | B2: 32 | D2: * | E2: This is the family unit indicator. This field is used to group members of a family together. This value MUST be unique per family so that members are not placed in invalid family structures. (Example: use Subscriber SSN)
A3: Insured | B3: 1 | D3: * | E3: Y or N indicating if the member record is the Insured or not (i.e. Subscriber)
A4: Relationship | B4: 2 | D4: * | E4: 01 - Spouse 03 - Father or Mother 04 - Grandfather or Grandmother 05 - Grandson or Granddaughter 06 - Uncle or Aunt 07 - Nephew or Niece 08 - Cousin 09 - Adopted Child 10 - Foster Child 11 - Son-in-law or Daughter-in-law 12 - Brother-in-law or Sister-in-law 13 - Mother-in-law or Father-in-law 14 - Brother or Sister 15 - Ward 16 - Stepparent 17 - Stepson or Stepdaughter 18 - Self 19 - Child 23 - Sponsored Dependent 24 - Dependent of a Minor Dependent 25 - Ex-spouse 26 - Guardian 31 - Court Appointed Guardian 38 - Collateral Dependent 53 - Life Partner 60 - Annuitant D2 - Trustee G8 - Other Relationship G9 - Other Relative
A5: First_Name | B5: 32 | D5: * | E5: Member First Name
A6: Last_Name | B6: 32 | D6: * | E6: Member Last Name
A7: Middle_Name | B7: 32 | E7: Member Middle Name or Initial
A8: Name_Prefix | B8: 16 | E8: Member Name Prefix
A9: Name_Suffix | B9: 16 | E9: Member Name Suffix
A10: Birth_Date | B10: 8 | C10: YYYYMMDD | D10: * | E10: Member Birth Date
A11: SSN | B11: 16 | D11: * | E11: Member SSN
A12: Alternate_ID | B12: 32 | E12: Stored on the Member in the Alternate ID field
A13: Unique_ID | B13: 32 | E13: Stored on the Member in the Unique ID field
A14: Address | B14: 128 | D14: * | E14: Member Address if different than the Insured/Subscriber (can be blank on non-insured records) Any record flagged as the Insured/Subscriber MUST have Address
A15: Address2 | B15: 128 | E15: Address 2 information if available
A16: City | B16: 32 | D16: * | E16: Member City if different than the Insured. Any record flagged as the Insured MUST have City
A17: State | B17: 2 | D17: * | E17: Member State if different than the Insured. Any record flagged as the Insured MUST have State
A18: Zip_Code | B18: 16 | D18: * | E18: Member Zip Code if different than the Insured. Any record flagged as the Insured MUST have Zip Code
A19: Home_Phone | B19: 16 | D19: * | E19: Member Phone Number if different than the Insured/Subscriber
A20: Work_Phone | B20: 16
A21: Fax | B21: 16
A22: Email | B22: 64 | D22: * | E22: Member email address
A23: Ethnicity_Code | B23: 1 | E23: 7 - Not Provided 8 - Not Applicable A - Asian or Pacific Islander B - Black C - Caucasian D - Subcontinent Asian American E - Other Race or Ethnicity F - Asian Pacific American G - Native American H - Hispanic I - American Indian or Alaskan Native J - Native Hawaiian N - Black (Non-Hispanic) O - White (Non-Hispanic) P - Pacific Islander Z - Mutually Defined
A24: Death_Date | B24: 8 | C24: YYYYMMDD
A25: Sex | B25: 1 | E25: M - Male F - Female U - Unknown
A26: Marital_Status | B26: 1 | E26: B - Registered Domestic Partner D - Divorced I - Single M - Married R - Unreported S - Separated U - Unmarried (Single or Divorced or Widowed) W - Widowed X - Legally Separated
A27: Handicap | B27: 1 | E27: If adult dependent 1 else 0
A28: Date_Employed | B28: 8 | C28: YYYYMMDD | D28: * | E28: This will indicate the current Date employed for any asociated enrollment records (current Group). This is informational and does not impact processing in VBA.
A29: Termination_Date | B29: 8 | C29: YYYYMMDD | E29: This will indicate the employment termination date. It is stored on the associated enrollment and does not impact processing within VBA.
A30: Date_Enrolled | B30: 8 | C30: YYYYMMDD | D30: * | E30: This will populate the Member Date Enrolled (earliest enrolled date). Claim cannot be paid prior to this date.
A31: Plan Selection | D31: * | E31: Plan Name
A32: Disenroll_Date | B32: 8 | C32: YYYYMMDD | E32: This will trigger the VBA Disenroll process which will term all eligiblity as of the date submitted for this member.

Sheet State List
A1: Abbreviation | B1: State
A2: AL | B2: Alabama
A3: AK | B3: Alaska
A4: AZ | B4: Arizona
A5: AR | B5: Arkansas
A6: CA | B6: California
A7: CO | B7: Colorado
A8: CT | B8: Connecticut
A9: DE | B9: Delaware
A10: FL | B10: Florida
A11: GA | B11: Georgia
A12: HI | B12: Hawaii
... A51: WY | B51: Wyoming
